BEGIN:VCALENDAR
VERSION:2.0
PRODID:-//S.N. NAOMH TREASA - ECPv4.6.2//NONSGML v1.0//EN
CALSCALE:GREGORIAN
METHOD:PUBLISH
X-WR-CALNAME:S.N. NAOMH TREASA
X-ORIGINAL-URL:https://cashelns.scoilnet.ie/blog
X-WR-CALDESC:Events for S.N. NAOMH TREASA
BEGIN:VEVENT
DTSTART;TZID=UTC+0:20170918T140000
DTEND;TZID=UTC+0:20170918T150000
DTSTAMP:20171103T022732
CREATED:20170831T212646Z
LAST-MODIFIED:20170831T212646Z
UID:1478-1505743200-1505746800@cashelns.scoilnet.ie
SUMMARY:Homework Club begins
DESCRIPTION:For Junior and Senior Infants\, run by Karen Folan. Mondays to Thursdays\, €3 per day. \n
URL:https://cashelns.scoilnet.ie/blog/event/homework-club-begins/
END:VEVENT
END:VCALENDAR