BEGIN:VCALENDAR
VERSION:2.0
PRODID:-//S.N. NAOMH TREASA - ECPv4.6.2//NONSGML v1.0//EN
CALSCALE:GREGORIAN
METHOD:PUBLISH
X-WR-CALNAME:S.N. NAOMH TREASA
X-ORIGINAL-URL:https://cashelns.scoilnet.ie/blog
X-WR-CALDESC:Events for S.N. NAOMH TREASA
BEGIN:VEVENT
DTSTART;TZID=UTC+0:20170905T080000
DTEND;TZID=UTC+0:20170905T170000
DTSTAMP:20171103T021145
CREATED:20170905T220516Z
LAST-MODIFIED:20170905T220516Z
UID:1487-1504598400-1504630800@cashelns.scoilnet.ie
SUMMARY:Tuesday September 5th Seashore Fieldtrip
DESCRIPTION:
URL:https://cashelns.scoilnet.ie/blog/event/tuesday-september-5th-seashore-fieldtrip/
END:VEVENT
END:VCALENDAR