BEGIN:VCALENDAR
VERSION:2.0
PRODID:-//S.N. NAOMH TREASA - ECPv4.6.2//NONSGML v1.0//EN
CALSCALE:GREGORIAN
METHOD:PUBLISH
X-WR-CALNAME:S.N. NAOMH TREASA
X-ORIGINAL-URL:https://cashelns.scoilnet.ie/blog
X-WR-CALDESC:Events for S.N. NAOMH TREASA
BEGIN:VEVENT
DTSTART;TZID=UTC+0:20170906T080000
DTEND;TZID=UTC+0:20170906T170000
DTSTAMP:20171103T022450
CREATED:20170906T194221Z
LAST-MODIFIED:20170906T194221Z
UID:1499-1504684800-1504717200@cashelns.scoilnet.ie
SUMMARY:Friendship Week 4th of September
DESCRIPTION:
URL:https://cashelns.scoilnet.ie/blog/event/friendship-week-4th-of-september/
END:VEVENT
END:VCALENDAR